BEGIN:VCALENDAR
VERSION:2.0
PRODID:-//Gamesystem - ECPv6.0.10//NONSGML v1.0//EN
CALSCALE:GREGORIAN
METHOD:PUBLISH
X-ORIGINAL-URL:https://gamesystem.com/it/
X-WR-CALDESC:Eventi per Gamesystem
REFRESH-INTERVAL;VALUE=DURATION:PT1H
X-Robots-Tag:noindex
X-PUBLISHED-TTL:PT1H
BEGIN:VTIMEZONE
TZID:UTC
BEGIN:STANDARD
TZOFFSETFROM:+0000
TZOFFSETTO:+0000
TZNAME:UTC
DTSTART:20190101T000000
END:STANDARD
END:VTIMEZONE
BEGIN:VEVENT
DTSTART;VALUE=DATE:20191011
DTEND;VALUE=DATE:20191012
DTSTAMP:20260420T010433
CREATED:20190731T062412Z
LAST-MODIFIED:20190925T105509Z
UID:29320-1570752000-1570838399@gamesystem.com
SUMMARY:Manovra di emergenza: dispositivo di evacuazione “Choucas” e di Treppiede di soccorso e recupero
DESCRIPTION:Evacuare in modo sicuro una persona rimasta sospesa all’imbracatura.\nEssere in grado di utilizzare i propri DPI per lavorare in sicurezza in quota.\nSaper installare i corretti dispositivi di ancoraggio provvisori o utilizzare quelli esistenti.\nSapere analizzare i rischi di caduta dall’alto a seconda del luogo d’intervento.\nProgramma
URL:https://gamesystem.com/it/interentreprise/manovra-di-emergenza-dispositivo-di-evacuazione-choucas-e-di-treppiede-di-soccorso-e-recupero/
LOCATION:Multiaziendale “Addetti ai lavori in ambienti confinati”
CATEGORIES:Lombardia
ATTACH;FMTTYPE=image/jpeg:https://gamesystem.com/wp-content/uploads/2018/07/Evacuation-d’une-personne-suspendu.jpg
END:VEVENT
END:VCALENDAR