BEGIN:VCALENDAR
VERSION:2.0
PRODID:-//Gamesystem - ECPv6.0.10//NONSGML v1.0//EN
CALSCALE:GREGORIAN
METHOD:PUBLISH
X-WR-CALNAME:Gamesystem
X-ORIGINAL-URL:https://gamesystem.com/es/
X-WR-CALDESC:Eventos para Gamesystem
REFRESH-INTERVAL;VALUE=DURATION:PT1H
X-Robots-Tag:noindex
X-PUBLISHED-TTL:PT1H
BEGIN:VTIMEZONE
TZID:UTC
BEGIN:STANDARD
TZOFFSETFROM:+0000
TZOFFSETTO:+0000
TZNAME:UTC
DTSTART:20180101T000000
END:STANDARD
END:VTIMEZONE
BEGIN:VEVENT
DTSTART;VALUE=DATE:20181105
DTEND;VALUE=DATE:20181106
DTSTAMP:20260422T011031
CREATED:20181009T131217Z
LAST-MODIFIED:20181015T080354Z
UID:27393-1541376000-1541462399@gamesystem.com
SUMMARY:alturas o Telco I Madrid
DESCRIPTION:Duración: 6 horas presenciales \nObjetivos:  \n\nConcienciar al trabajador de la necesidad de velar por su propia seguridad.\nReconocer las situaciones de riesgo de trabajo en altura y conocer técnicas básicas para eliminarlo o disminuirlo.\nAdquirir los conocimientos básicos para la utilización correcta de los EPI para trabajo en altura\, así como las limitaciones en su uso.\nSaber utilizar los dispositivos de anclaje existentes e instalar dispositivos de anclaje provisionales.\nSaber utilizar e inmovilizar una escalera de mano en los casos en que los trabajadores utilicen este equipo.\n\nFicha Formación
URL:https://gamesystem.com/es/interentreprise/ccgg-o-telco-i/
LOCATION:RESCATE TELCO
CATEGORIES:Zona Centro
END:VEVENT
BEGIN:VEVENT
DTSTART;VALUE=DATE:20181106
DTEND;VALUE=DATE:20181107
DTSTAMP:20260422T011031
CREATED:20181009T131655Z
LAST-MODIFIED:20181015T080354Z
UID:27399-1541462400-1541548799@gamesystem.com
SUMMARY:Riesgo eléctrico Madrid
DESCRIPTION:Duración: 6 horas presenciales \nObjetivos:  \n\nConcienciar al trabajador de la necesidad de velar por su propia seguridad.\nReconocer las situaciones de riesgo de trabajo en altura y conocer técnicas básicas para eliminarlo o disminuirlo.\nConocer los principios básicos generales de utilización de EPI en altura.\nAdquirir los conocimientos básicos para la utilización correcta de los EPI para trabajo en altura así como las limitaciones en su uso.\nSaber utilizar los dispositivos de anclaje existentes e instalar dispositivos de anclaje provisionales.\nConocer la legislación y normativa específica.\nSaber utilizar e inmovilizar una escalera de mano en los casos en que los trabajadores utilicen este equipo.\n\nFicha Formación
URL:https://gamesystem.com/es/interentreprise/riesgo-electrico/
LOCATION:RESCATE TELCO
CATEGORIES:Zona Centro
END:VEVENT
BEGIN:VEVENT
DTSTART;VALUE=DATE:20181107
DTEND;VALUE=DATE:20181109
DTSTAMP:20260422T011031
CREATED:20181005T150840Z
LAST-MODIFIED:20181015T080354Z
UID:27328-1541548800-1541721599@gamesystem.com
SUMMARY:Telco II Madrid
DESCRIPTION:Duración: 16 horas presenciales \n  \nObjetivos:  \n\nConcienciar al trabajador de la necesidad de velar por su propia seguridad.\nReconocer las situaciones de riesgo de trabajo en altura en una cubierta especialmente las que son menos evidentes.\nConocer los principios básicos generales de utilización de EPI en altura.\nReconocer distintos tipos de cubiertas\, sus riesgos y la forma de progresar sobre ellas.\nAdquirir los conocimientos básicos para la utilización correcta de los EPI para trabajo en Torres de antena (celosía y tubulares)\, mástiles y cubiertas sin protección.\nSaber utilizar los dispositivos de anclaje existentes e instalar dispositivos de anclaje provisionales.
URL:https://gamesystem.com/es/interentreprise/telco-ii-madrid-3/
LOCATION:RESCATE TELCO
CATEGORIES:Zona Centro
ATTACH;FMTTYPE=image/jpeg:https://gamesystem.com/wp-content/uploads/2018/07/formation-à-la-Sécurité-du-travail-en-hauteur-sur-toiture-terrasse-et-pylône-télécom.jpg
END:VEVENT
BEGIN:VEVENT
DTSTART;VALUE=DATE:20181112
DTEND;VALUE=DATE:20181113
DTSTAMP:20260422T011031
CREATED:20181009T132756Z
LAST-MODIFIED:20181015T080354Z
UID:27410-1541980800-1542067199@gamesystem.com
SUMMARY:Riesgo eléctrico Madrid
DESCRIPTION:Duración: 6 horas presenciales \nObjetivos:  \n\nConcienciar al trabajador de la necesidad de velar por su propia seguridad.\nReconocer las situaciones de riesgo de trabajo en altura y conocer técnicas básicas para eliminarlo o disminuirlo.\nConocer los principios básicos generales de utilización de EPI en altura.\nAdquirir los conocimientos básicos para la utilización correcta de los EPI para trabajo en altura así como las limitaciones en su uso.\nSaber utilizar los dispositivos de anclaje existentes e instalar dispositivos de anclaje provisionales.\nConocer la legislación y normativa específica.\nSaber utilizar e inmovilizar una escalera de mano en los casos en que los trabajadores utilicen este equipo.\n\nFicha Formación
URL:https://gamesystem.com/es/interentreprise/riesgo-electrico-madrid/
LOCATION:RESCATE TELCO
CATEGORIES:Zona Centro
END:VEVENT
BEGIN:VEVENT
DTSTART;VALUE=DATE:20181113
DTEND;VALUE=DATE:20181114
DTSTAMP:20260422T011031
CREATED:20181009T133521Z
LAST-MODIFIED:20181015T080354Z
UID:27423-1542067200-1542153599@gamesystem.com
SUMMARY:Confinados Madrid
DESCRIPTION:Duración: 6 horas presenciales \nObjetivos:  \n\nConcienciar al trabajador de la necesidad de velar por su propia seguridad.\nReconocer las situaciones de riesgo de trabajo en altura y conocer técnicas básicas para eliminarlo o disminuirlo.\nConocer los principios básicos generales de utilización de EPI en altura.\nAdquirir los conocimientos básicos para la utilización correcta de los EPI para trabajo en altura así como las limitaciones en su uso.\nSaber utilizar los dispositivos de anclaje existentes e instalar dispositivos de anclaje provisionales.\nConocer la legislación y normativa específica.\n\nFicha Formación
URL:https://gamesystem.com/es/interentreprise/espacios-confinados-telco/
LOCATION:RESCATE TELCO
CATEGORIES:Zona Centro
END:VEVENT
BEGIN:VEVENT
DTSTART;VALUE=DATE:20181114
DTEND;VALUE=DATE:20181115
DTSTAMP:20260422T011031
CREATED:20181009T132959Z
LAST-MODIFIED:20181113T121243Z
UID:27412-1542153600-1542239999@gamesystem.com
SUMMARY:alturas oTelco I Madrid
DESCRIPTION:Duración: 6-8 horas presenciales \nObjetivos:  \n\nConcienciar al trabajador de la necesidad de velar por su propia seguridad.\nReconocer las situaciones de riesgo de trabajo en altura y conocer técnicas básicas para eliminarlo o disminuirlo.\nAdquirir los conocimientos básicos para la utilización correcta de los EPI para trabajo en altura\, así como las limitaciones en su uso.\nSaber utilizar los dispositivos de anclaje existentes e instalar dispositivos de anclaje provisionales.\nSaber utilizar e inmovilizar una escalera de mano en los casos en que los trabajadores utilicen este equipo.\n\nFicha Formación
URL:https://gamesystem.com/es/interentreprise/telco-i-madrid/
LOCATION:RESCATE TELCO
CATEGORIES:Zona Centro
END:VEVENT
BEGIN:VEVENT
DTSTART;VALUE=DATE:20181115
DTEND;VALUE=DATE:20181117
DTSTAMP:20260422T011031
CREATED:20181005T150952Z
LAST-MODIFIED:20181015T080354Z
UID:27330-1542240000-1542412799@gamesystem.com
SUMMARY:Telco II Madrid
DESCRIPTION:Duración: 16 horas presenciales \nObjetivos:  \n\nConcienciar al trabajador de la necesidad de velar por su propia seguridad.\nReconocer las situaciones de riesgo de trabajo en altura en una cubierta especialmente las que son menos evidentes.\nConocer los principios básicos generales de utilización de EPI en altura.\nReconocer distintos tipos de cubiertas\, sus riesgos y la forma de progresar sobre ellas.\nAdquirir los conocimientos básicos para la utilización correcta de los EPI para trabajo en Torres de antena (celosía y tubulares)\, mástiles y cubiertas sin protección.\nSaber utilizar los dispositivos de anclaje existentes e instalar dispositivos de anclaje provisionales.
URL:https://gamesystem.com/es/interentreprise/telco-ii-madrid-4/
LOCATION:RESCATE TELCO
CATEGORIES:Zona Centro
ATTACH;FMTTYPE=image/jpeg:https://gamesystem.com/wp-content/uploads/2018/07/formation-à-la-Sécurité-du-travail-en-hauteur-sur-toiture-terrasse-et-pylône-télécom.jpg
END:VEVENT
BEGIN:VEVENT
DTSTART;VALUE=DATE:20181119
DTEND;VALUE=DATE:20181120
DTSTAMP:20260422T011031
CREATED:20181113T124358Z
LAST-MODIFIED:20181113T124358Z
UID:27767-1542585600-1542671999@gamesystem.com
SUMMARY:Riesgo Eléctrico
DESCRIPTION:Duración: 6 horas presenciales \nObjetivos:  \n\nProporcionar los conocimientos requeridos y estar capacitado para poder prestar servicios como trabajador “autorizado” respecto a riesgo eléctrico para trabajos en proximidad de cuadros eléctricos\, centros de transformación\, subestaciones eléctricas\, líneas aéreas desnudas\, líneas eléctricas enterradas\, etc…\nConocer las maniobras\, mediciones\, ensayos y verificaciones en BT.
URL:https://gamesystem.com/es/interentreprise/riesgo-electrico-2/
LOCATION:RESCATE TELCO
CATEGORIES:Zona Centro
END:VEVENT
BEGIN:VEVENT
DTSTART;VALUE=DATE:20181126
DTEND;VALUE=DATE:20181127
DTSTAMP:20260422T011031
CREATED:20181009T133235Z
LAST-MODIFIED:20181113T121219Z
UID:27418-1543190400-1543276799@gamesystem.com
SUMMARY:alturas o Telco I Madrid
DESCRIPTION:Duración: 6-8 horas presenciales \nObjetivos:  \n\nConcienciar al trabajador de la necesidad de velar por su propia seguridad.\nReconocer las situaciones de riesgo de trabajo en altura y conocer técnicas básicas para eliminarlo o disminuirlo.\nAdquirir los conocimientos básicos para la utilización correcta de los EPI para trabajo en altura\, así como las limitaciones en su uso.\nSaber utilizar los dispositivos de anclaje existentes e instalar dispositivos de anclaje provisionales.\nSaber utilizar e inmovilizar una escalera de mano en los casos en que los trabajadores utilicen este equipo.\n\nFicha Formación
URL:https://gamesystem.com/es/interentreprise/ccgg-o-telco-i-madrid/
LOCATION:RESCATE TELCO
CATEGORIES:Zona Centro
END:VEVENT
BEGIN:VEVENT
DTSTART;VALUE=DATE:20181127
DTEND;VALUE=DATE:20181128
DTSTAMP:20260422T011031
CREATED:20181009T134925Z
LAST-MODIFIED:20181015T080354Z
UID:27434-1543276800-1543363199@gamesystem.com
SUMMARY:Confinados Madrid
DESCRIPTION:Duración: 6 horas presenciales \nObjetivos:  \n\nConcienciar al trabajador de la necesidad de velar por su propia seguridad.\nReconocer las situaciones de riesgo de trabajo en altura y conocer técnicas básicas para eliminarlo o disminuirlo.\nConocer los principios básicos generales de utilización de EPI en altura.\nAdquirir los conocimientos básicos para la utilización correcta de los EPI para trabajo en altura así como las limitaciones en su uso.\nSaber utilizar los dispositivos de anclaje existentes e instalar dispositivos de anclaje provisionales.\nConocer la legislación y normativa específica.\n\nFicha Formación
URL:https://gamesystem.com/es/interentreprise/espacios-confinados-telco-madrid/
LOCATION:RESCATE TELCO
CATEGORIES:Zona Centro
END:VEVENT
BEGIN:VEVENT
DTSTART;VALUE=DATE:20181127
DTEND;VALUE=DATE:20181129
DTSTAMP:20260422T011031
CREATED:20181113T124642Z
LAST-MODIFIED:20181113T124642Z
UID:27771-1543276800-1543449599@gamesystem.com
SUMMARY:Riesgo eléctrico Barcelona
DESCRIPTION:Duración: 6 horas presenciales \nObjetivos:  \n\nProporcionar los conocimientos requeridos y estar capacitado para poder prestar servicios como trabajador “autorizado” respecto a riesgo eléctrico para trabajos en proximidad de cuadros eléctricos\, centros de transformación\, subestaciones eléctricas\, líneas aéreas desnudas\, líneas eléctricas enterradas\, etc…\nConocer las maniobras\, mediciones\, ensayos y verificaciones en BT.
URL:https://gamesystem.com/es/interentreprise/riesgo-electrico-barcelona/
LOCATION:RESCATE TELCO
CATEGORIES:Zona Este
END:VEVENT
BEGIN:VEVENT
DTSTART;VALUE=DATE:20181128
DTEND;VALUE=DATE:20181130
DTSTAMP:20260422T011032
CREATED:20181005T151117Z
LAST-MODIFIED:20181114T081644Z
UID:27332-1543363200-1543535999@gamesystem.com
SUMMARY:Telco II Madrid
DESCRIPTION:Duración: 16 horas presenciales \n  \nObjetivos:  \n\nConcienciar al trabajador de la necesidad de velar por su propia seguridad.\nReconocer las situaciones de riesgo de trabajo en altura en una cubierta especialmente las que son menos evidentes.\nConocer los principios básicos generales de utilización de EPI en altura.\nReconocer distintos tipos de cubiertas\, sus riesgos y la forma de progresar sobre ellas.\nAdquirir los conocimientos básicos para la utilización correcta de los EPI para trabajo en Torres de antena (celosía y tubulares)\, mástiles y cubiertas sin protección.\nSaber utilizar los dispositivos de anclaje existentes e instalar dispositivos de anclaje provisionales.
URL:https://gamesystem.com/es/interentreprise/telco-ii-madrid-5/
LOCATION:RESCATE TELCO
CATEGORIES:Zona Centro
ATTACH;FMTTYPE=image/jpeg:https://gamesystem.com/wp-content/uploads/2018/07/formation-à-la-Sécurité-du-travail-en-hauteur-sur-toiture-terrasse-et-pylône-télécom.jpg
END:VEVENT
BEGIN:VEVENT
DTSTART;VALUE=DATE:20181128
DTEND;VALUE=DATE:20181129
DTSTAMP:20260422T011032
CREATED:20181009T135022Z
LAST-MODIFIED:20181015T080354Z
UID:27439-1543363200-1543449599@gamesystem.com
SUMMARY:Riesgo eléctrico Madrid
DESCRIPTION:Duración: 6 horas presenciales \nObjetivos:  \n\nConcienciar al trabajador de la necesidad de velar por su propia seguridad.\nReconocer las situaciones de riesgo de trabajo en altura y conocer técnicas básicas para eliminarlo o disminuirlo.\nConocer los principios básicos generales de utilización de EPI en altura.\nAdquirir los conocimientos básicos para la utilización correcta de los EPI para trabajo en altura así como las limitaciones en su uso.\nSaber utilizar los dispositivos de anclaje existentes e instalar dispositivos de anclaje provisionales.\nConocer la legislación y normativa específica.\nSaber utilizar e inmovilizar una escalera de mano en los casos en que los trabajadores utilicen este equipo.\n\nFicha Formación
URL:https://gamesystem.com/es/interentreprise/riesgo-electrico-madrid-2/
LOCATION:RESCATE TELCO
CATEGORIES:Zona Centro
END:VEVENT
BEGIN:VEVENT
DTSTART;VALUE=DATE:20181129
DTEND;VALUE=DATE:20181130
DTSTAMP:20260422T011032
CREATED:20181113T124943Z
LAST-MODIFIED:20181113T124943Z
UID:27779-1543449600-1543535999@gamesystem.com
SUMMARY:Telco II Barcelona
DESCRIPTION:Duración: 16 horas presenciales \n  \nObjetivos:  \n\nConcienciar al trabajador de la necesidad de velar por su propia seguridad.\nReconocer las situaciones de riesgo de trabajo en altura en una cubierta especialmente las que son menos evidentes.\nConocer los principios básicos generales de utilización de EPI en altura.\nReconocer distintos tipos de cubiertas\, sus riesgos y la forma de progresar sobre ellas.\nAdquirir los conocimientos básicos para la utilización correcta de los EPI para trabajo en Torres de antena (celosía y tubulares)\, mástiles y cubiertas sin protección.\nSaber utilizar los dispositivos de anclaje existentes e instalar dispositivos de anclaje provisionales.
URL:https://gamesystem.com/es/interentreprise/telco-ii-barcelona/
LOCATION:RESCATE TELCO
CATEGORIES:Zona Este
END:VEVENT
BEGIN:VEVENT
DTSTART;VALUE=DATE:20181203
DTEND;VALUE=DATE:20181204
DTSTAMP:20260422T011032
CREATED:20181113T124106Z
LAST-MODIFIED:20181113T125558Z
UID:27761-1543795200-1543881599@gamesystem.com
SUMMARY:Alturas o Telco I Madrid
DESCRIPTION:  \nDuración: 6-8 horas presenciales \n  \nObjetivos:  \n\nConocer la legislación y normativa específica.\nConcienciar al trabajador de la necesidad de velar por su propia seguridad.\nConocer los principios básicos generales de utilización de EPI en altura.\nAdquirir los conocimientos básicos para la utilización correcta de los EPI para el trabajo en altura en escaleras manuales\, escalas fijas\, postes de madera\, postes de hormigón\, andamios\, cubiertas con protección
URL:https://gamesystem.com/es/interentreprise/alturas-o-telco-i/
LOCATION:RESCATE TELCO
CATEGORIES:Zona Centro
END:VEVENT
BEGIN:VEVENT
DTSTART;VALUE=DATE:20181203
DTEND;VALUE=DATE:20181204
DTSTAMP:20260422T011032
CREATED:20181113T124436Z
LAST-MODIFIED:20181113T124436Z
UID:27769-1543795200-1543881599@gamesystem.com
SUMMARY:Riesgo eléctrico Valencia
DESCRIPTION:Duración: 6 horas presenciales \nObjetivos:  \n\nProporcionar los conocimientos requeridos y estar capacitado para poder prestar servicios como trabajador “autorizado” respecto a riesgo eléctrico para trabajos en proximidad de cuadros eléctricos\, centros de transformación\, subestaciones eléctricas\, líneas aéreas desnudas\, líneas eléctricas enterradas\, etc…\nConocer las maniobras\, mediciones\, ensayos y verificaciones en BT.
URL:https://gamesystem.com/es/interentreprise/riesgo-electrico-valencia/
LOCATION:RESCATE TELCO
CATEGORIES:Zona Levante
END:VEVENT
BEGIN:VEVENT
DTSTART;VALUE=DATE:20181204
DTEND;VALUE=DATE:20181206
DTSTAMP:20260422T011032
CREATED:20181113T124826Z
LAST-MODIFIED:20181113T124826Z
UID:27775-1543881600-1544054399@gamesystem.com
SUMMARY:Telco II Valencia
DESCRIPTION:Duración: 16 horas presenciales \n  \nObjetivos:  \n\nConcienciar al trabajador de la necesidad de velar por su propia seguridad.\nReconocer las situaciones de riesgo de trabajo en altura en una cubierta especialmente las que son menos evidentes.\nConocer los principios básicos generales de utilización de EPI en altura.\nReconocer distintos tipos de cubiertas\, sus riesgos y la forma de progresar sobre ellas.\nAdquirir los conocimientos básicos para la utilización correcta de los EPI para trabajo en Torres de antena (celosía y tubulares)\, mástiles y cubiertas sin protección.\nSaber utilizar los dispositivos de anclaje existentes e instalar dispositivos de anclaje provisionales.
URL:https://gamesystem.com/es/interentreprise/telco-ii-valencia/
LOCATION:RESCATE TELCO
CATEGORIES:Zona Levante
END:VEVENT
BEGIN:VEVENT
DTSTART;VALUE=DATE:20181204
DTEND;VALUE=DATE:20181206
DTSTAMP:20260422T011032
CREATED:20181113T125228Z
LAST-MODIFIED:20181114T083050Z
UID:27781-1543881600-1544054399@gamesystem.com
SUMMARY:Telco II Madrid
DESCRIPTION:Duración: 16 horas presenciales \n  \nObjetivos:  \n\nConcienciar al trabajador de la necesidad de velar por su propia seguridad.\nReconocer las situaciones de riesgo de trabajo en altura en una cubierta especialmente las que son menos evidentes.\nConocer los principios básicos generales de utilización de EPI en altura.\nReconocer distintos tipos de cubiertas\, sus riesgos y la forma de progresar sobre ellas.\nAdquirir los conocimientos básicos para la utilización correcta de los EPI para trabajo en Torres de antena (celosía y tubulares)\, mástiles y cubiertas sin protección.\nSaber utilizar los dispositivos de anclaje existentes e instalar dispositivos de anclaje provisionales.
URL:https://gamesystem.com/es/interentreprise/telco-ii-madrid-7/
LOCATION:RESCATE TELCO
CATEGORIES:Zona Centro
END:VEVENT
BEGIN:VEVENT
DTSTART;VALUE=DATE:20181210
DTEND;VALUE=DATE:20181211
DTSTAMP:20260422T011032
CREATED:20181113T124722Z
LAST-MODIFIED:20181113T124722Z
UID:27773-1544400000-1544486399@gamesystem.com
SUMMARY:Riesgo eléctrico Sevilla
DESCRIPTION:Duración: 6 horas presenciales \nObjetivos:  \n\nProporcionar los conocimientos requeridos y estar capacitado para poder prestar servicios como trabajador “autorizado” respecto a riesgo eléctrico para trabajos en proximidad de cuadros eléctricos\, centros de transformación\, subestaciones eléctricas\, líneas aéreas desnudas\, líneas eléctricas enterradas\, etc…\nConocer las maniobras\, mediciones\, ensayos y verificaciones en BT.
URL:https://gamesystem.com/es/interentreprise/riesgo-electrico-sevilla/
LOCATION:RESCATE TELCO
CATEGORIES:Zona Sur
END:VEVENT
BEGIN:VEVENT
DTSTART;VALUE=DATE:20181213
DTEND;VALUE=DATE:20181215
DTSTAMP:20260422T011032
CREATED:20181113T124905Z
LAST-MODIFIED:20181113T124905Z
UID:27777-1544659200-1544831999@gamesystem.com
SUMMARY:Telco II Sevilla
DESCRIPTION:Duración: 16 horas presenciales \n  \nObjetivos:  \n\nConcienciar al trabajador de la necesidad de velar por su propia seguridad.\nReconocer las situaciones de riesgo de trabajo en altura en una cubierta especialmente las que son menos evidentes.\nConocer los principios básicos generales de utilización de EPI en altura.\nReconocer distintos tipos de cubiertas\, sus riesgos y la forma de progresar sobre ellas.\nAdquirir los conocimientos básicos para la utilización correcta de los EPI para trabajo en Torres de antena (celosía y tubulares)\, mástiles y cubiertas sin protección.\nSaber utilizar los dispositivos de anclaje existentes e instalar dispositivos de anclaje provisionales.
URL:https://gamesystem.com/es/interentreprise/telco-ii-sevilla/
LOCATION:RESCATE TELCO
CATEGORIES:Zona Sur
END:VEVENT
BEGIN:VEVENT
DTSTART;VALUE=DATE:20181213
DTEND;VALUE=DATE:20181214
DTSTAMP:20260422T011032
CREATED:20181120T081810Z
LAST-MODIFIED:20181120T081810Z
UID:27817-1544659200-1544745599@gamesystem.com
SUMMARY:Confinados  Madrid
DESCRIPTION:Duración: 6-8 horas presenciales \nObjetivos:\n• Proporcionar los conocimientos requeridos y estar capacitado para poder prestar servicios en espacios confinados. Conocer las normas\, procedimientos y medidas preventivas para el acceso\, permanencia y rescate en espacios confinados\n• Conocer técnicas de medición y ventilación.\n• Conocer el uso de equipos de protección respiratoria.\n• Saber utilizar equipos anticaídas.
URL:https://gamesystem.com/es/interentreprise/confinados-madrid-3/
LOCATION:RESCATE TELCO
CATEGORIES:Zona Centro
END:VEVENT
BEGIN:VEVENT
DTSTART;VALUE=DATE:20181214
DTEND;VALUE=DATE:20181215
DTSTAMP:20260422T011032
CREATED:20181116T085534Z
LAST-MODIFIED:20181116T085534Z
UID:27803-1544745600-1544831999@gamesystem.com
SUMMARY:Riesgo eléctrico Madrid
DESCRIPTION:Duración: 6-8 horas presenciales \n Objetivos:  \n\nConocer la legislación y normativa específica.\nConcienciar al trabajador de la necesidad de velar por su propia seguridad.\nConocer los principios básicos generales de utilización de EPI en altura.\nAdquirir los conocimientos básicos para la utilización correcta de los EPI para el trabajo en altura en escaleras manuales\, escalas fijas\, postes de madera\, postes de hormigón\, andamios\, cubiertas con protección
URL:https://gamesystem.com/es/interentreprise/riesgo-electrico-madrid-4/
LOCATION:RESCATE TELCO
CATEGORIES:Zona Centro
END:VEVENT
BEGIN:VEVENT
DTSTART;VALUE=DATE:20181217
DTEND;VALUE=DATE:20181218
DTSTAMP:20260422T011032
CREATED:20181113T124159Z
LAST-MODIFIED:20181113T125628Z
UID:27763-1545004800-1545091199@gamesystem.com
SUMMARY:Alturas o Telco I Madrid
DESCRIPTION:Duración: 6-8 horas presenciales \n  \nObjetivos:  \n\nConocer la legislación y normativa específica.\nConcienciar al trabajador de la necesidad de velar por su propia seguridad.\nConocer los principios básicos generales de utilización de EPI en altura.\n\nAdquirir los conocimientos básicos para la utilización correcta de los EPI para el trabajo en altura en escaleras manuales\, escalas fijas\, postes de madera\, postes de hormigón\, andamios\, cubiertas con protección
URL:https://gamesystem.com/es/interentreprise/alturas-o-telco-i-2/
LOCATION:RESCATE TELCO
CATEGORIES:Zona Centro
END:VEVENT
BEGIN:VEVENT
DTSTART;VALUE=DATE:20181218
DTEND;VALUE=DATE:20181219
DTSTAMP:20260422T011032
CREATED:20181113T124259Z
LAST-MODIFIED:20181113T124259Z
UID:27765-1545091200-1545177599@gamesystem.com
SUMMARY:Confinados Telco
DESCRIPTION:Duración: 6-8 horas presenciales \nObjetivos:  \n\nProporcionar los conocimientos requeridos y estar capacitado para poder prestar servicios en espacios confinados. Conocer las normas\, procedimientos y medidas preventivas para el acceso\, permanencia y rescate en espacios confinados\nConocer técnicas de medición y ventilación.\nConocer el uso de equipos de protección respiratoria.\nSaber utilizar equipos anticaídas.
URL:https://gamesystem.com/es/interentreprise/confinados-telco/
LOCATION:RESCATE TELCO
CATEGORIES:Zona Centro
END:VEVENT
BEGIN:VEVENT
DTSTART;VALUE=DATE:20181220
DTEND;VALUE=DATE:20181222
DTSTAMP:20260422T011032
CREATED:20181005T151540Z
LAST-MODIFIED:20181015T080354Z
UID:27334-1545264000-1545436799@gamesystem.com
SUMMARY:Telco II Madrid
DESCRIPTION:Duración: 16 horas presenciales \nObjetivos:  \n\nConcienciar al trabajador de la necesidad de velar por su propia seguridad.\nReconocer las situaciones de riesgo de trabajo en altura en una cubierta especialmente las que son menos evidentes.\nConocer los principios básicos generales de utilización de EPI en altura.\nReconocer distintos tipos de cubiertas\, sus riesgos y la forma de progresar sobre ellas.\nAdquirir los conocimientos básicos para la utilización correcta de los EPI para trabajo en Torres de antena (celosía y tubulares)\, mástiles y cubiertas sin protección.\nSaber utilizar los dispositivos de anclaje existentes e instalar dispositivos de anclaje provisionales.\n\nFicha Formación
URL:https://gamesystem.com/es/interentreprise/telco-ii-madrid-6/
LOCATION:RESCATE TELCO
CATEGORIES:Zona Centro
ATTACH;FMTTYPE=image/jpeg:https://gamesystem.com/wp-content/uploads/2018/07/formation-à-la-Sécurité-du-travail-en-hauteur-sur-toiture-terrasse-et-pylône-télécom.jpg
END:VEVENT
BEGIN:VEVENT
DTSTART;VALUE=DATE:20181226
DTEND;VALUE=DATE:20181229
DTSTAMP:20260422T011032
CREATED:20181113T125416Z
LAST-MODIFIED:20181113T125416Z
UID:27785-1545782400-1546041599@gamesystem.com
SUMMARY:Verticales Madrid
DESCRIPTION:24 horas presenciales
URL:https://gamesystem.com/es/interentreprise/verticales-madrid/
LOCATION:RESCATE TELCO
CATEGORIES:Zona Centro
END:VEVENT
BEGIN:VEVENT
DTSTART;VALUE=DATE:20190110
DTEND;VALUE=DATE:20190111
DTSTAMP:20260422T011032
CREATED:20190110T134132Z
LAST-MODIFIED:20190110T134730Z
UID:27969-1547078400-1547164799@gamesystem.com
SUMMARY:Alturas. I Madrid
DESCRIPTION:Duración: 6 horas presenciales \nObjetivos:\n• Conocer la legislación y normativa específica.\n• Concienciar al trabajador de la necesidad de velar por su propia seguridad.\n• Conocer los principios básicos generales de utilización de EPI en altura.\n• Adquirir los conocimientos básicos para la utilización correcta de los EPI para el trabajo en altura en escaleras manuales\, escalas fijas\, postes de madera\, postes de hormigón\, andamios\, cubiertas con protección
URL:https://gamesystem.com/es/interentreprise/telco-i-madrid-2/
LOCATION:RESCATE TELCO
CATEGORIES:Zona Centro
END:VEVENT
BEGIN:VEVENT
DTSTART;VALUE=DATE:20190114
DTEND;VALUE=DATE:20190116
DTSTAMP:20260422T011032
CREATED:20190109T090616Z
LAST-MODIFIED:20190109T090616Z
UID:27960-1547424000-1547596799@gamesystem.com
SUMMARY:Telco II Madrid
DESCRIPTION:Duración: 16 horas presenciales \n Objetivos:  \n\nConcienciar al trabajador de la necesidad de velar por su propia seguridad.\nReconocer las situaciones de riesgo de trabajo en altura en una cubierta especialmente las que son menos evidentes.\nConocer los principios básicos generales de utilización de EPI en altura.\nReconocer distintos tipos de cubiertas\, sus riesgos y la forma de progresar sobre ellas.\nAdquirir los conocimientos básicos para la utilización correcta de los EPI para trabajo en Torres de antena (celosía y tubulares)\, mástiles y cubiertas sin protección.\nSaber utilizar los dispositivos de anclaje existentes e instalar dispositivos de anclaje provisionales.
URL:https://gamesystem.com/es/interentreprise/telco-ii-madrid-8/
LOCATION:RESCATE TELCO
CATEGORIES:Zona Centro
END:VEVENT
BEGIN:VEVENT
DTSTART;VALUE=DATE:20190114
DTEND;VALUE=DATE:20190115
DTSTAMP:20260422T011032
CREATED:20190114T084342Z
LAST-MODIFIED:20190114T084342Z
UID:27998-1547424000-1547510399@gamesystem.com
SUMMARY:Instalador Papillon Madrid
DESCRIPTION:Duración: 4 horas presenciales \nObjetivos:  \n\nSer conscientes de la necesidad y responsabilidad de una instalación correcta.\nConocer las técnicas de instalación y revisión del sistema anticaídas Papillon.\nSaber los criterios de instalación.\nAnalizar las diferentes situaciones que se pueden dar en una instalación.\nConocer las diferentes piezas existentes para resolver los distintos casos que se pueden dar.\nSaber cuál es la documentación necesaria que se debe presentar.
URL:https://gamesystem.com/es/interentreprise/instalador-papillon-madrid/
LOCATION:RESCATE TELCO
CATEGORIES:Zona Centro
END:VEVENT
BEGIN:VEVENT
DTSTART;VALUE=DATE:20190115
DTEND;VALUE=DATE:20190116
DTSTAMP:20260422T011032
CREATED:20190110T134200Z
LAST-MODIFIED:20190110T134458Z
UID:27971-1547510400-1547596799@gamesystem.com
SUMMARY:Alturas. Telco I Madrid
DESCRIPTION:Duración: 6-8 horas presenciales \n Objetivos:  \n\nConocer la legislación y normativa específica.\nConcienciar al trabajador de la necesidad de velar por su propia seguridad.\nConocer los principios básicos generales de utilización de EPI en altura.\nAdquirir los conocimientos básicos para la utilización correcta de los EPI para el trabajo en altura en escaleras manuales\, escalas fijas\, postes de madera\, postes de hormigón\, andamios\, cubiertas con protección
URL:https://gamesystem.com/es/interentreprise/telco-i-madrid-3/
LOCATION:RESCATE TELCO
CATEGORIES:Zona Centro
END:VEVENT
END:VCALENDAR