BEGIN:VCALENDAR
VERSION:2.0
PRODID:-//Gamesystem - ECPv6.0.10//NONSGML v1.0//EN
CALSCALE:GREGORIAN
METHOD:PUBLISH
X-ORIGINAL-URL:https://gamesystem.com/es/
X-WR-CALDESC:Eventos para Gamesystem
REFRESH-INTERVAL;VALUE=DURATION:PT1H
X-Robots-Tag:noindex
X-PUBLISHED-TTL:PT1H
BEGIN:VTIMEZONE
TZID:Europe/Paris
BEGIN:DAYLIGHT
TZOFFSETFROM:+0100
TZOFFSETTO:+0200
TZNAME:CEST
DTSTART:20250330T010000
END:DAYLIGHT
BEGIN:STANDARD
TZOFFSETFROM:+0200
TZOFFSETTO:+0100
TZNAME:CET
DTSTART:20251026T010000
END:STANDARD
END:VTIMEZONE
BEGIN:VEVENT
DTSTART;VALUE=DATE:20251009
DTEND;VALUE=DATE:20251010
DTSTAMP:20260423T111008
CREATED:20250820T134339Z
LAST-MODIFIED:20250820T134339Z
UID:38908-1759968000-1760054399@gamesystem.com
SUMMARY:ESPACIOS CONFINADOS
DESCRIPTION:
URL:https://gamesystem.com/es/interentreprise/espacios-confinados-24/
LOCATION:RESCATE TELCO
END:VEVENT
END:VCALENDAR