BEGIN:VCALENDAR
VERSION:2.0
PRODID:-//Gamesystem - ECPv6.0.10//NONSGML v1.0//EN
CALSCALE:GREGORIAN
METHOD:PUBLISH
X-WR-CALNAME:Gamesystem
X-ORIGINAL-URL:https://gamesystem.com/es/
X-WR-CALDESC:Eventos para Gamesystem
REFRESH-INTERVAL;VALUE=DURATION:PT1H
X-Robots-Tag:noindex
X-PUBLISHED-TTL:PT1H
BEGIN:VTIMEZONE
TZID:UTC
BEGIN:STANDARD
TZOFFSETFROM:+0000
TZOFFSETTO:+0000
TZNAME:UTC
DTSTART:20190101T000000
END:STANDARD
END:VTIMEZONE
BEGIN:VEVENT
DTSTART;VALUE=DATE:20190114
DTEND;VALUE=DATE:20190116
DTSTAMP:20260421T164613
CREATED:20190109T090616Z
LAST-MODIFIED:20190109T090616Z
UID:27960-1547424000-1547596799@gamesystem.com
SUMMARY:Telco II Madrid
DESCRIPTION:Duración: 16 horas presenciales \n Objetivos:  \n\nConcienciar al trabajador de la necesidad de velar por su propia seguridad.\nReconocer las situaciones de riesgo de trabajo en altura en una cubierta especialmente las que son menos evidentes.\nConocer los principios básicos generales de utilización de EPI en altura.\nReconocer distintos tipos de cubiertas\, sus riesgos y la forma de progresar sobre ellas.\nAdquirir los conocimientos básicos para la utilización correcta de los EPI para trabajo en Torres de antena (celosía y tubulares)\, mástiles y cubiertas sin protección.\nSaber utilizar los dispositivos de anclaje existentes e instalar dispositivos de anclaje provisionales.
URL:https://gamesystem.com/es/interentreprise/telco-ii-madrid-8/
LOCATION:RESCATE TELCO
CATEGORIES:Zona Centro
END:VEVENT
BEGIN:VEVENT
DTSTART;VALUE=DATE:20190115
DTEND;VALUE=DATE:20190116
DTSTAMP:20260421T164613
CREATED:20190110T134200Z
LAST-MODIFIED:20190110T134458Z
UID:27971-1547510400-1547596799@gamesystem.com
SUMMARY:Alturas. Telco I Madrid
DESCRIPTION:Duración: 6-8 horas presenciales \n Objetivos:  \n\nConocer la legislación y normativa específica.\nConcienciar al trabajador de la necesidad de velar por su propia seguridad.\nConocer los principios básicos generales de utilización de EPI en altura.\nAdquirir los conocimientos básicos para la utilización correcta de los EPI para el trabajo en altura en escaleras manuales\, escalas fijas\, postes de madera\, postes de hormigón\, andamios\, cubiertas con protección
URL:https://gamesystem.com/es/interentreprise/telco-i-madrid-3/
LOCATION:RESCATE TELCO
CATEGORIES:Zona Centro
END:VEVENT
END:VCALENDAR