BEGIN:VCALENDAR
VERSION:2.0
PRODID:-//Gamesystem - ECPv6.0.10//NONSGML v1.0//EN
CALSCALE:GREGORIAN
METHOD:PUBLISH
X-ORIGINAL-URL:https://gamesystem.com/es/
X-WR-CALDESC:Eventos para Gamesystem
REFRESH-INTERVAL;VALUE=DURATION:PT1H
X-Robots-Tag:noindex
X-PUBLISHED-TTL:PT1H
BEGIN:VTIMEZONE
TZID:UTC
BEGIN:STANDARD
TZOFFSETFROM:+0000
TZOFFSETTO:+0000
TZNAME:UTC
DTSTART:20180101T000000
END:STANDARD
END:VTIMEZONE
BEGIN:VEVENT
DTSTART;VALUE=DATE:20181226
DTEND;VALUE=DATE:20181229
DTSTAMP:20260421T181810
CREATED:20181113T125416Z
LAST-MODIFIED:20181113T125416Z
UID:27785-1545782400-1546041599@gamesystem.com
SUMMARY:Verticales Madrid
DESCRIPTION:24 horas presenciales
URL:https://gamesystem.com/es/interentreprise/verticales-madrid/
LOCATION:RESCATE TELCO
CATEGORIES:Zona Centro
END:VEVENT
END:VCALENDAR