BEGIN:VCALENDAR
VERSION:2.0
PRODID:-//Gamesystem - ECPv6.0.10//NONSGML v1.0//EN
CALSCALE:GREGORIAN
METHOD:PUBLISH
X-ORIGINAL-URL:https://gamesystem.com/es/
X-WR-CALDESC:Eventos para Gamesystem
REFRESH-INTERVAL;VALUE=DURATION:PT1H
X-Robots-Tag:noindex
X-PUBLISHED-TTL:PT1H
BEGIN:VTIMEZONE
TZID:UTC
BEGIN:STANDARD
TZOFFSETFROM:+0000
TZOFFSETTO:+0000
TZNAME:UTC
DTSTART:20180101T000000
END:STANDARD
END:VTIMEZONE
BEGIN:VEVENT
DTSTART;VALUE=DATE:20181031
DTEND;VALUE=DATE:20181101
DTSTAMP:20260421T195807
CREATED:20181015T094747Z
LAST-MODIFIED:20181015T094747Z
UID:27491-1540944000-1541030399@gamesystem.com
SUMMARY:Confinados Madrid
DESCRIPTION:Duración: 6 horas presenciales \nObjetivos:  \n\nProporcionar los conocimientos requeridos y estar capacitado para poder prestar servicios en espacios confinados. Conocer las normas\, procedimientos y medidas preventivas para el acceso\, permanencia y rescate en espacios confinados\nConocer técnicas de medición y ventilación.\nConocer el uso de equipos de protección respiratoria.\nSaber utilizar equipos anticaídas.
URL:https://gamesystem.com/es/interentreprise/confinados-madrid/
LOCATION:RESCATE TELCO
CATEGORIES:Zona Centro
END:VEVENT
END:VCALENDAR